Workbook

Sheet Ввод
A1: Реквизиты организации и подписи
A2: Должность руководителя
A3: И.О. Фамилия руководителя
A4: Название организации
A5: Год начала программы
A6: Год окончания программы
A7: Сфера деятельности (родительный падеж)
A8: Введите название организации, должность, И.О. Фамилию и годы программы. Данные на формах обновляются автоматически. Отчётный год в годовых отчётах заполняется отдельно.
A10: Дополнительный описательный признак дифференциации (при наличии необходимости: наименование тарифа, территории или другое - в целях различия программ)
A11: =IF(Ввод!$B$2="","Должность",Ввод!$B$2)&" ____________________ "&IF(Ввод!$B$3="","И.О. Фамилия",Ввод!$B$3) -> Должность ____________________ И.О. Фамилия
A12: М.П. (при наличии)
A13: ОГЛАВЛЕНИЕ
A14: Общее — 1-ИП
A15: ХВС — 2.1-ИП(п) ХВС
A16: ХВС — 2.2-ИП ХВС
A17: ХВС — 3-ИП ХВС
A18: ХВС — 4.1-ИП(п) ХВС
A19: ХВС — 4.2-ИП ХВС
A20: ХВС — 5-ИП ХВС
A21: ВО — 2.1-ИП(п) ВО
A22: ВО — 2.2-ИП ВО
A23: ВО — 3-ИП ВО
... A34: Общее — 7-ИП

Sheet 1-ИП
B1: УТВЕРЖДЕНА | D1: ← К оглавлению
B2: приказом Министерства строительства
B3: и жилищно-коммунального хозяйства
B4: Российской Федерации
B5: от 28 августа 2026 г. № 571/пр
A6: Форма
A8: Инвестиционная программа организации, осуществляющей горячее водоснабжение, холодное водоснабжение и (или) водоотведение с использованием централизованных систем (за исключением организации, осуществляющей горячее водоснабжение с использованием открытых систем горячего водоснабжения)
A10: Таблица № 1-ИП
A12: ="Паспорт инвестиционной программы "&"в сфере "&IF(Ввод!$B$7="","______________",Ввод!$B$7)&IF(Ввод!$B$10="",""," ("&Ввод!$B$10&")")&"" -> Паспорт инвестиционной программы в сфере ______________
A13: =IF(Ввод!$B$4="","",Ввод!$B$4)
A14: (наименование регулируемой организации)
A16: Наименование регулируемой организации, в отношении которой разрабатывается инвестиционная программа | B16: =IF(Ввод!$B$4="","",Ввод!$B$4)
A17: Местонахождение регулируемой организации
A18: Сроки реализации инвестиционной программы
A19: Лицо, ответственное за разработку инвестиционной программы
A20: Контакты ответственных за разработку инвестиционной программы
A21: Наименование уполномоченного исполнительного органа субъекта Российской Федерации или органа местного самоуправления, утвердившего инвестиционную программу
A22: Местонахождение уполномоченного исполнительного органа субъекта Российской Федерации или органа местного самоуправления, утвердившего инвестиционную программу
A23: Наименование органа местного самоуправления, согласовавшего инвестиционную программу
A24: Местонахождение органа местного самоуправления, согласовавшего инвестиционную программу
A25: Наименование уполномоченного исполнительного органа субъекта Российской Федерации в области государственного регулирования тарифов, согласовавшего инвестиционную программу
A26: Местонахождение уполномоченного исполнительного органа субъекта Российской Федерации в области государственного регулирования тарифов, согласовавшего инвестиционную программу
A27: Должностное лицо уполномоченного исполнительного органа субъекта Российской Федерации в области государственного регулирования тарифов, согласовавшего инвестиционную программу
A28: Контакты ответственных за согласование инвестиционной программы должностных лиц уполномоченного исполнительного органа субъекта Российской Федерации в области государственного регулирования тарифов
A29: Информация о концессионном соглашении и (или) о регуляторном соглашении
A31: =IF(Ввод!$B$2="","Должность",Ввод!$B$2)&" ____________________ "&IF(Ввод!$B$3="","И.О. Фамилия",Ввод!$B$3) -> Должность ____________________ И.О. Фамилия
A32: М.П. (при наличии)

Sheet 2.1-ИП(п) ХВС
A1: Таблица № 2.1-ИП(п) (ХВС) | AH1: ← К оглавлению
A3: ="Мероприятия инвестиционной программы (подключения) в сфере холодного водоснабжения"&IF(Ввод!$B$10="",""," ("&Ввод!$B$10&")")&" на "&IF(Ввод!$B$5="","____",Ввод!$B$5)&"–"&IF(Ввод!$B$6="","____",Ввод!$B$6)&" годы (за счет платы за подключение)" -> Мероприятия инвестиционной программы (подключения) в сфере холодного водоснабжения на ____–____ годы (за счет платы за подключение)
A4: =IF(Ввод!$B$4="","",Ввод!$B$4)
A5: (наименование регулируемой организации)
A7: № | B7: Наименование мероприятий | C7: Обоснование необходимости (цель реализации) | D7: Место расположения объекта | E7: Вид объекта | F7: Тип тарифа (платы) | G7: Нормативный акт органа регулирования об установлении размера платы, тарифа за, на подключение (технологическое присоединение) к централизованной системе водоотведения | I7: Договор на подключение (технологическое присоединение) | L7: Точка подключения | M7: Срок подключения | N7: Плановые показатели по итогам реализации мероприятия инвестиционной программы | W7: Год начала реализации мероприятия | X7: Год окончания реализации мероприятия | Y7: Плановый год ввода в эксплуатацию | Z7: Плановый объем выполнения за счет платы за подключение, тысяч рублей (без налога на добавленную стоимость)
D8: Адрес, место расположения начала и конца объекта | N8: Диаметр (миллиметры) | O8: Материал | P8: Объем подключаемой нагрузки (метры кубические в сутки) | Q8: Ввод мощностей (километры) | U8: Количество новых подключаемых (технологически присоединенных) объектов капитального строительства абонентов (штуки) | V8: Создание условий для подключения (технологического присоединения) новых объектов капитального строительства абонентов (метры кубические в сутки) | Z8: Всего, в том числе: | AA8: Профинансировано к N | AB8: в том числе по годам | AF8: Остаток финансирования
Q9: Всего | R9: в том числе по годам | AB9: N | AC9: N+1 | AD9: N+2 | AE9: N+…
G10: Дата и номер | H10: Размер платы, тарифа, тысяч рублей (без налога на добавленную стоимость) | I10: Номер договора | J10: Дата заключения договора | K10: Данные о заявителе (наименование организации) | R10: N | S10: N + 1 | T10: N + 2
A11: 1 | B11: 2 | C11: 3 | D11: 4 | E11: 5 | F11: 6 | G11: 7 | H11: 8 | I11: 9 | J11: 10 | K11: 11 | L11: 12 | M11: 13 | N11: 14 | O11: 15 | P11: 16 | Q11: 17 | R11: 18 | S11: 19 | T11: 20 | U11: 21 | V11: 22 | W11: 23 | X11: 24 | Y11: 25 | Z11: 26 | AA11: 27 | AB11: 28 | AC11: 29 | AD11: 30 | AE11: 31 | AF11: 32
A12: 1. | B12: Строительство, реконструкция и (или) модернизация объектов в целях подключения потребителей:
A13: 1.1. | B13: Строительство новых сетей холодного водоснабжения в целях подключения потребителей
A14: 1.1.1
A15: 1.1.2
A16: 1.2. | B16: Строительство иных объектов централизованных систем холодного водоснабжения (за исключением сетей водоснабжения) в целях подключения потребителей
A17: 1.2.1
A18: 1.2.2
A19: 1.3. | B19: Увеличение пропускной способности существующих сетей в целях подключения потребителей
A20: 1.3.1
A21: 1.3.2
A22: 1.4. | B22: Увеличение мощности и производительности существующих объектов централизованных систем холодного водоснабжения (за исключением сетей водоснабжения) в целях подключения потребителей
A23: 1.4.1
A24: 1.4.2
A25: Всего
A26: ИТОГО по программе
A28: =IF(Ввод!$B$2="","Должность",Ввод!$B$2)&" ____________________ "&IF(Ввод!$B$3="","И.О. Фамилия",Ввод!$B$3) -> Должность ____________________ И.О. Фамилия
A29: М.П. (при наличии)

Sheet 2.2-ИП ХВС
A1: Таблица № 2.2-ИП (ХВС) | AU1: ← К оглавлению
A3: ="Мероприятия инвестиционной программы в сфере холодного водоснабжения"&IF(Ввод!$B$10="",""," ("&Ввод!$B$10&")")&" на "&IF(Ввод!$B$5="","____",Ввод!$B$5)&"–"&IF(Ввод!$B$6="","____",Ввод!$B$6)&" годы (за исключением мероприятий, выполняемых за счет платы за подключение)" -> Мероприятия инвестиционной программы в сфере холодного водоснабжения на ____–____ годы (за исключением мероприятий, выполняемых за счет платы за подключение)
A4: =IF(Ввод!$B$4="","",Ввод!$B$4)
A5: (наименование регулируемой организации)
A7: № | B7: Наименование мероприятий | C7: Обоснование необходимости (цель реализации) | D7: Место расположения объекта | E7: Вид объекта | F7: Основные технические характеристики и физическое состояние | X7: Год начала реализации мероприятия | Y7: Год окончания реализации мероприятия | Z7: Плановый год ввода в эксплуатацию | AA7: Плановый объем выполнения за счет источников финансирования, тысяч рублей (без налога на добавленную стоимость)
D8: Адрес, место расположения начала и конца объекта | F8: Характеристика объектов на дату утверждения инвестиционной программы | O8: Плановые показатели по итогам реализации мероприятия инвестиционной программы | AA8: Всего, в том числе: | AB8: в том числе по источникам финансирования | AH8: Профинансировано к N | AI8: в том числе по годам | AS8: Остаток финансирования
F9: Сети | J9: Иные объекты | O9: Сети | S9: Иные объекты | AB9: Источник 1 (амортизация) | AC9: в том числе | AF9: источник 2 | AG9: источник n | AI9: N | AJ9: в том числе по источникам финансирования | AP9: N+1 | AQ9: N+2 | AR9: N+…
F10: Диаметр (миллиметры) | G10: Протяженность (километры) | H10: Материал | I10: Пропускная способность (метры кубические в сутки) | J10: Производительность (метры кубические в сутки) | K10: Иные параметры | O10: Диаметр (миллиметры) | P10: Протяженность (километры) | Q10: Материал | R10: Пропускная способность (метры кубические в сутки) | S10: Производительность (метры кубические в сутки) | T10: Иные параметры | AC10: Амортизация основных средств и нематериальных активов сферы водоотведения, используемая для финансирования мероприятий в сфере водоснабжения | AD10: Амортизация основных средств и нематериальных активов, перераспределенная между видами деятельности в сфере водоснабжения | AE10: Амортизация основных средств и нематериальных активов, перераспределенная между несколькими технологически не связанными между собой централизованными системами водоснабжения | AJ10: Источник 1 (амортизация) | AK10: в том числе | AN10: источник 2 | AO10: источник n
K11: штуки | L11: метры | M11: квадратные метры | N11: комплексные | T11: штуки | U11: метры | V11: квадратные метры | W11: комплексные | AK11: Амортизация основных средств и нематериальных активов сферы водоотведения, используемая для финансирования мероприятий в сфере водоснабжения | AL11: Амортизация основных средств и нематериальных активов, перераспределенная между видами деятельности в сфере водоснабжения | AM11: Амортизация основных средств и нематериальных активов, перераспределенная между несколькими технологически не связанными между собой централизованными системами водоснабжения
A12: 1 | B12: 2 | C12: 3 | D12: 4 | E12: 5 | F12: 6 | G12: 7 | H12: 8 | I12: 9 | J12: 10 | K12: 11 | L12: 12 | M12: 13 | N12: 14 | O12: 15 | P12: 16 | Q12: 17 | R12: 18 | S12: 19 | T12: 20 | U12: 21 | V12: 22 | W12: 23 | X12: 24 | Y12: 25 | Z12: 26 | AA12: 27 | AB12: 28 | AC12: 29 | AD12: 30 | AE12: 31 | AF12: 32 | AG12: 33 | AH12: 34 | AI12: 35 | AJ12: 36 | AK12: 37 | AL12: 38 | AM12: 39 | AN12: 40 | AO12: 41 | AP12: 42 | AQ12: 43 | AR12: 44 | AS12: 45
A13: 1. Строительство новых объектов централизованных систем водоснабжения, не связанных с подключением новых объектов капитального строительства абонентов, в том числе строительство новых сетей водоснабжения
A14: 1.1. | B14: Строительство новых сетей водоснабжения
A15: 1.1.1.
A16: 1.1.2.
A17: 1.2. | B17: Строительство иных объектов централизованных систем водоснабжения (за исключением сетей водоснабжения)
A18: 1.2.1.
A19: 1.2.2.
A20: Всего по разделу 1
A21: 2. Реконструкция, модернизация, техническое перевооружение существующих объектов централизованных систем водоснабжения в целях снижения уровня износа существующих объектов
A22: 2.1. Реконструкция, модернизация, техническое перевооружение существующих сетей водоснабжения
A23: 2.1.1.
A24: 2.1.2.
A25: 2.2. Реконструкция, модернизация, техническое перевооружение существующих объектов централизованных систем водоотведения, за исключением сетей водоснабжения
A26: 2.2.1.
A27: 2.2.2.
A28: Всего по разделу 2
A29: 3. Создание, приобретение основных средств и нематериальных активов, необходимых для
... A77: ИТОГО по программе
A79: =IF(Ввод!$B$2="","Должность",Ввод!$B$2)&" ____________________ "&IF(Ввод!$B$3="","И.О. Фамилия",Ввод!$B$3) -> Должность ____________________ И.О. Фамилия
A80: М.П. (при наличии)

Sheet 3-ИП ХВС
A1: Таблица № 3-ИП (ХВС) | H1: ← К оглавлению
A3: ="Показатели надежности, качества и энергетической эффективности централизованных систем холодного водоснабжения"&IF(Ввод!$B$10="",""," ("&Ввод!$B$10&")")&"" -> Показатели надежности, качества и энергетической эффективности централизованных систем холодного водоснабжения
A4: =IF(Ввод!$B$4="","",Ввод!$B$4)
A5: (наименование регулируемой организации)
A7: № | B7: Наименование показателя | C7: Показатели качества, надежности и энергетической эффективности централизованных систем холодного водоснабжения по годам
C8: Фактическое значение на год утверждения инвестиционной программы | D8: Плановое значение
D9: N | E9: N + 1 | F9: N + 2
A10: 1 | B10: 2 | C10: 3 | D10: 4 | E10: 5 | F10: 6
A11: 1. | B11: Доля проб питьевой воды, подаваемой с источников водоснабжения, водопроводных станций или иных объектов централизованной системы водоснабжения в распределительную водопроводную сеть, не соответствующих установленным требованиям, в общем объеме проб, отобранных по результатам производственного контроля качества питьевой воды (%)
A12: 2. | B12: Доля проб питьевой воды в распределительной водопроводной сети, не соответствующих установленным требованиям, в общем объеме проб, отобранных по результатам производственного контроля качества питьевой воды (%)
A13: 3. | B13: Количество перерывов в подаче воды, зафиксированных в определенных договором холодного водоснабжения, единым договором водоснабжения и водоотведения или договором транспортировки холодной воды, местах исполнения обязательств организацией, осуществляющей холодное водоснабжение по подаче холодной воды, произошедших в результате аварий, повреждений и иных технологических нарушений на объектах централизованной системы холодного водоснабжения, принадлежащих организации, осуществляющей холодное водоснабжение, в расчете на протяженность водопроводной сети в год (единица, км)
A14: 4. | B14: Удельный расход электроэнергии, потребляемой в технологическом процессе подготовки питьевой воды на единицу объема воды, отпускаемой в сеть (кВт · ч, м³)
A15: 5. | B15: Удельный расход электрической энергии, потребляемой в технологическом процессе транспортировки питьевой воды, на единицу объема транспортируемой воды (кВт · ч, м³)
A16: 6. | B16: Доля потерь воды в централизованных системах водоснабжения при транспортировке в общем объеме воды, поданной в водопроводную сеть (%)
A17: 7. | B17: Удельный расход электрической энергии, потребляемой в технологическом процессе транспортировки технической воды, на единицу объема транспортируемой воды (кВт · ч, м³)
A18: 8. | B18: Доля потерь технической воды в централизованных системах водоснабжения при транспортировке в общем объеме воды, поданной в водопроводную сеть (%)
A20: =IF(Ввод!$B$2="","Должность",Ввод!$B$2)&" ____________________ "&IF(Ввод!$B$3="","И.О. Фамилия",Ввод!$B$3) -> Должность ____________________ И.О. Фамилия
A21: М.П. (при наличии)

Sheet 4.1-ИП(п) ХВС
A1: Таблица № 4.1-ИП(п) (ХВС) | AO1: ← К оглавлению
A3: ="Отчет о реализации мероприятий инвестиционной программы (подключения) в сфере холодного водоснабжения"&IF(Ввод!$B$10="",""," ("&Ввод!$B$10&")")&" за год (за счет платы за подключение)" -> Отчет о реализации мероприятий инвестиционной программы (подключения) в сфере холодного водоснабжения за год (за счет платы за подключение)
A4: =IF(Ввод!$B$4="","",Ввод!$B$4)
A5: (наименование регулируемой организации)
A7: № | B7: Наименование мероприятий | C7: Место расположения объекта | D7: Вид объекта | E7: Тип тарифа (платы) | F7: Нормативный акт органа регулирования об установлении размера платы, тарифа за, на подключение (технологическое присоединение) к централизованной системе водоснабжения | H7: Договор на подключение (технологическое присоединение) | K7: Точка подключения | L7: Срок подключения | M7: Основные технические характеристики и физическое состояние | W7: Год начала реализации мероприятия | X7: Год окончания реализации мероприятия | Y7: Год ввода в эксплуатацию | Z7: Плановый объем выполнения за счет платы за подключение, тысяч рублей (без налога на добавленную стоимость) | AG7: Объем фактического выполнения за счет платы за подключение, тысяч рублей (без налога на добавленную стоимость)
C8: Адрес, место расположения начала и конца объекта | M8: Диаметр (миллиметры) | N8: Материал | O8: Объем подключенной нагрузки (метры кубические в сутки) | P8: Ввод мощностей (километры) | U8: Количество новых подключенных (технологически присоединенных) объектов капитального строительства абонентов (штуки) | V8: Создание условий для подключения (технологического присоединения) новых объектов капитального строительства абонентов (метры кубические в сутки)
P9: Всего | Q9: в том числе по годам | Z9: Всего, в том числе: | AA9: Профинансировано к N | AB9: в том числе по годам | AF9: Остаток финансирования | AG9: Всего, В ТОМ числе: | AH9: Профинансировано к N | AI9: в том числе по годам | AM9: Остаток финансирования
F10: Дата и номер | G10: Размер платы, тарифа, тысяч рублей (без налога на добавленную стоимость) | H10: Номер договора | I10: Дата заключения договора | J10: Данные о заявителе (наименование организации) | Q10: N | R10: N + 1 | S10: N + 2 | T10: N + … | AB10: N | AC10: N+1 | AD10: N+2 | AE10: N+… | AI10: N | AJ10: N+1 | AK10: N+2 | AL10: N+…
A11: 1 | B11: 2 | C11: 3 | D11: 4 | E11: 5 | F11: 6 | G11: 7 | H11: 8 | I11: 9 | J11: 10 | K11: 11 | L11: 12 | M11: 13 | N11: 14 | O11: 15 | P11: 16 | Q11: 17 | R11: 18 | S11: 19 | T11: 20 | U11: 21 | V11: 22 | W11: 23 | X11: 24 | Y11: 25 | Z11: 26 | AA11: 27 | AB11: 28 | AC11: 29 | AD11: 30 | AE11: 31 | AF11: 32 | AG11: 33 | AH11: 34 | AI11: 35 | AJ11: 36 | AK11: 37 | AL11: 38 | AM11: 39
A12: 1. | B12: Строительство, реконструкция и (или) модернизация объектов централизованных систем водоснабжения в целях подключения потребителей
A13: 1.1. | B13: Строительство новых сетей холодного водоснабжения в целях подключения потребителей
A14: 1.1.1
A15: 1.1.2
A16: 1.2. | B16: Строительство иных объектов централизованных систем водоснабжения (за исключением сетей водоснабжения) в целях подключения потребителей
A17: 1.2.1
A18: 1.2.2
A19: 1.3. | B19: Увеличение пропускной способности существующих сетей холодного водоснабжения в целях подключения потребителей
A20: 1.3.1
A21: 1.3.2
A22: 1.4. | B22: Увеличение мощности и производительности существующих объектов централизованных систем холодного водоснабжения (за исключением сетей водоснабжения) в целях подключения потребителей
A23: 1.4.1
A24: 1.4.2
A25: Всего
A26: ИТОГО по программе
A28: =IF(Ввод!$B$2="","Должность",Ввод!$B$2)&" ____________________ "&IF(Ввод!$B$3="","И.О. Фамилия",Ввод!$B$3) -> Должность ____________________ И.О. Фамилия
A29: М.П. (при наличии)

Sheet 4.2-ИП ХВС
A1: Таблица № 4.2-ИП (ХВС) | BH1: ← К оглавлению
A3: ="Отчет о ходе реализации инвестиционной программы в сфере холодного водоснабжения"&IF(Ввод!$B$10="",""," ("&Ввод!$B$10&")")&" на "&IF(Ввод!$B$5="","____",Ввод!$B$5)&"–"&IF(Ввод!$B$6="","____",Ввод!$B$6)&" годы (за исключением мероприятий, выполняемых за счет платы за подключение)" -> Отчет о ходе реализации инвестиционной программы в сфере холодного водоснабжения на ____–____ годы (за исключением мероприятий, выполняемых за счет платы за подключение)
A4: =IF(Ввод!$B$4="","",Ввод!$B$4)
A5: (наименование регулируемой организации)
A7: № | B7: Наименование мероприятий | C7: Обоснование необходимости (цель реализации) | D7: Место расположения объекта | E7: Вид объекта | F7: Основные технические характеристики и физическое состояние по итогам реализации мероприятия инвестиционной программы | O7: Год начала реализации мероприятия | P7: Год окончания реализации мероприятия | Q7: Год ввода в эксплуатацию | R7: Плановый объем выполнения за счет источников финансирования, тысяч рублей (без налога на добавленную стоимость) | AK7: Объем фактического выполнения за счет источников финансирования, тысяч рублей (без налога на добавленную стоимость) | BD7: Экономия инвестиционных расходов, тысяч рублей (без налога на добавленную стоимость)
D8: Адрес, место расположения начала и конца объекта | F8: Сети | J8: Иные объекты | R8: Всего, в том числе: | S8: в том числе по источникам финансирования | Y8: Профинансировано к N | Z8: в том числе по годам | AJ8: Остаток финансирования | AK8: Всего, в том числе: | AL8: в том числе по источникам финансирования | AR8: Профинансировано к N | AS8: в том числе по годам | BC8: Остаток финансирования | BD8: за счет амортизационных отчислений | BE8: за счет капитальных вложений в составе нормативной прибыли | BF8: за счет прочих собственных средств
S9: Источник 1 (амортизация) | T9: в том числе | W9: источник 2 | X9: источник в | Z9: N | AA9: в том числе по источникам финансирования | AG9: N+1 | AH9: N+2 | AI9: N+… | AL9: Источник 1 (амортизация) | AM9: в том числе | AP9: источник | AQ9: источник | AS9: N | AT9: в том числе по источникам финансирования | AZ9: N+1 | BA9: N+2 | BB9: N+…
F10: Диаметр (миллиметры) | G10: Протяженность (километры) | H10: Материал | I10: Пропускная способность (метры кубические в сутки) | J10: Производительность (метры кубические в сутки) | K10: Иные параметры | T10: Амортизация основных средств и нематериальных активов сферы водоотведения, используемая для финансирования мероприятий в сфере водоснабжения | U10: Амортизация основных средств и нематериальных активов, пераспределенная между видами деятельности в сфере водоснабжения | V10: Амортизация основных средств и нематериальных активов, пераспределенная между несколькими технологически не связанными между собой централизованными системами водоснабжения | AA10: Источник 1 (амортизация) | AB10: в том числе | AE10: источник 2 | AF10: источник | AM10: Амортизация основных средств и нематериальных активов сферы водоотведения, используемая для финансирования мероприятий в сфере водоснабжения | AN10: Амортизация основных средств и нематериальных активов, пераспределенная между видами деятельности в сфере водоснабжения | AO10: Амортизация основных средств и нематериальных активов, пераспределенная между несколькими технологически не связанными между собой централизованными системами водоснабжения | AT10: Источник 1 (амортизация) | AU10: в том числе | AX10: источник 2 | AY10: источник n
K11: штуки | L11: метры | M11: квадратные метры | N11: комплексные | AB11: Амортизация основных средств и и нематериальных активов сферы водоотведения, используемая для финансирования мероприятий в сфере водоснабжения | AC11: Амортизация основных средств и и нематериальных активов, пераспределенная между видами деятельности в сфере водоснабжения | AD11: Амортизация основных средств и нематериальных активов, пераспределенная между несколькими технологически не связанными между собой централизованными системами водоснабжения | AU11: Амортизация основных средств и нематериальных активов сферы водоотведения, используемая для финансирования мероприятий в сфере водоснабжения | AV11: Амортизация основных средств и нематериальных активов, пераспределенная между видами деятельности в сфере водоснабжения | AW11: Амортизация основных средств и нематериальных активов, пераспределенная между несколькими технологически не связанными между собой централизованными системами водоснабжения
A12: 1 | B12: 2 | C12: 3 | D12: 4 | E12: 5 | F12: 6 | G12: 7 | H12: 8 | I12: 9 | J12: 10 | K12: 11 | L12: 12 | M12: 13 | N12: 14 | O12: 15 | P12: 16 | Q12: 17 | R12: 18 | S12: 19 | T12: 20 | U12: 21 | V12: 22 | W12: 23 | X12: 24 | Y12: 25 | Z12: 26 | AA12: 27 | AB12: 28 | AC12: 29 | AD12: 30 | AE12: 31 | AF12: 32 | AG12: 33 | AH12: 34 | AI12: 35 | AJ12: 36 | AK12: 37 | AL12: 38 | AM12: 39 | AN12: 40 | AO12: 41 | AP12: 42 | AQ12: 43 | AR12: 44 | AS12: 45 | AT12: 46 | AU12: 47 | AV12: 48 | AW12: 49 | AX12: 50 | AY12: 51 | AZ12: 52 | BA12: 53 | BB12: 54 | BC12: 55 | BD12: 56 | BE12: 57 | BF12: 58
A13: 1. Строительство новых объектов централизованных систем водоснабжения, не связанных с подключением новых объектов капитального строительства абонентов, в том числе строительство новых сетей водоснабжения
A14: 1.1. | B14: Строительство новых сетей водоснабжения
A15: 1.1.1.
A16: 1.1.2.
A17: 1.2. | B17: Строительство иных объектов централизованных систем водоснабжения (за исключением сетей водоснабжения)
A18: 1.2.1.
A19: 1.2.2.
A20: Всего по разделу 1
A21: 2. Реконструкция, модернизация, техническое перевооружение существующих объектов централизованных систем водоснабжения в целях снижения уровня износа существующих объектов
A22: 2.1. Реконструкция, модернизация, техническое перевооружение существующих сетей водоснабжения
A23: 2.1.1.
A24: 2.1.2.
A25: 2.2. Реконструкция, модернизация, техническое перевооружение существующих объектов централизованных систем водоотведения, за исключением сетей водоснабжения
A26: 2.2.1.
A27: 2.2.2.
A28: Всего по разделу 2
A29: 3. Создание, приобретение основных средств и нематериальных активов, необходимых для
... A77: ИТОГО по программе
A79: =IF(Ввод!$B$2="","Должность",Ввод!$B$2)&" ____________________ "&IF(Ввод!$B$3="","И.О. Фамилия",Ввод!$B$3) -> Должность ____________________ И.О. Фамилия
A80: М.П. (при наличии)

Sheet 5-ИП ХВС
A1: Таблица № 5-ИП (ХВС) | F1: ← К оглавлению
A3: ="Отчет о достижении плановых показателей надежности, качества и энергетической эффективности объектов централизованных систем холодного водоснабжения"&IF(Ввод!$B$10="",""," ("&Ввод!$B$10&")")&" за ______ год" -> Отчет о достижении плановых показателей надежности, качества и энергетической эффективности объектов централизованных систем холодного водоснабжения за ______ год
A4: =IF(Ввод!$B$4="","",Ввод!$B$4)
A5: (наименование регулируемой организации)
A7: № | B7: Наименование показателя | C7: План | D7: Факт
A8: 1 | B8: 2 | C8: 3 | D8: 4
A9: 1. | B9: Доля проб питьевой воды, подаваемой с источников водоснабжения, водопроводных станций или иных объектов централизованной системы водоснабжения в распределительную водопроводную сеть, не соответствующих установленным требованиям, в общем объеме проб, отобранных по результатам производственного контроля качества питьевой воды (%)
A10: 2. | B10: Доля проб питьевой воды в распределительной водопроводной сети, не соответствующих установленным требованиям, в общем объеме проб, отобранных по результатам производственного контроля качества питьевой воды (%)
A11: 3. | B11: Количество перерывов в подаче воды, зафиксированных в определенных договором холодного водоснабжения, единым договором водоснабжения и водоотведения или договором транспортировки холодной воды, местах исполнения обязательств организацией, осуществляющей холодное водоснабжение по подаче холодной воды, произошедших в результате аварий, повреждений и иных технологических нарушений на объектах централизованной системы холодного водоснабжения, принадлежащих организации, осуществляющей холодное водоснабжение, в расчете на протяженность водопроводной сети в год (единица, км)
A12: 4. | B12: Удельный расход электроэнергии, потребляемой в технологическом процессе подготовки питьевой воды на единицу объема воды, отпускаемой в сеть (кВт · ч, м³)
A13: 5. | B13: Удельный расход электрической энергии, потребляемой в технологическом процессе транспортировки питьевой воды, на единицу объема транспортируемой воды (кВт · ч, м³)
A14: 6. | B14: Доля потерь воды в централизованных системах водоснабжения при транспортировке в общем объеме воды, поданной в водопроводную сеть (%)
A15: 7. | B15: Удельный расход электрической энергии, потребляемой в технологическом процессе транспортировки технической воды, на единицу объема транспортируемой воды (кВт · ч, м³)
A16: 8. | B16: Доля потерь технической воды в централизованных системах водоснабжения при транспортировке в общем объеме воды, поданной в водопроводную сеть (%)
A18: =IF(Ввод!$B$2="","Должность",Ввод!$B$2)&" ____________________ "&IF(Ввод!$B$3="","И.О. Фамилия",Ввод!$B$3) -> Должность ____________________ И.О. Фамилия
A19: М.П. (при наличии)

Sheet 2.1-ИП(п) ВО
A1: Таблица № 2.1-ИП(п) (ВО) | AH1: ← К оглавлению
A3: ="Мероприятия инвестиционной программы (подключения) в сфере водоотведения"&IF(Ввод!$B$10="",""," ("&Ввод!$B$10&")")&" на "&IF(Ввод!$B$5="","____",Ввод!$B$5)&"–"&IF(Ввод!$B$6="","____",Ввод!$B$6)&" годы (за счет платы за подключение)" -> Мероприятия инвестиционной программы (подключения) в сфере водоотведения на ____–____ годы (за счет платы за подключение)
A4: =IF(Ввод!$B$4="","",Ввод!$B$4)
A5: (наименование регулируемой организации)
A7: № | B7: Наименование мероприятий | C7: Обоснование необходимости (цель реализации) | D7: Место расположения объекта | E7: Вид объекта | F7: Тип тарифа (платы) | G7: Нормативный акт органа регулирования об установлении размера платы, тарифа за, на подключение (технологическое присоединение) к централизованной системе водоотведения | I7: Договор на подключение (технологическое присоединение) | L7: Точка подключения | M7: Срок подключения | N7: Плановые показатели по итогам реализации мероприятия инвестиционной программы | W7: Год начала реализации мероприятия | X7: Год окончания реализации мероприятия | Y7: Плановый год ввода в эксплуатацию | Z7: Плановый объем выполнения за счет платы за подключение, тысяч рублей (без налога на добавленную стоимость)
D8: Адрес, место расположения начала и конца объекта | N8: Диаметр (миллиметры) | O8: Материал | P8: Объем подключаемой нагрузки (метры кубические в сутки) | Q8: Ввод мощностей (километры) | U8: Количество новых подключаемых (технологически присоединенных) объектов капитального строительства абонентов (штуки) | V8: Создание условий для подключения (технологического присоединения) новых объектов капитального строительства абонентов (метры кубические в сутки) | Z8: Всего, в том числе: | AA8: Профинансировано к N | AB8: в том числе по годам | AF8: Остаток финансирования
Q9: Всего | R9: в том числе по годам | AB9: N | AC9: N+1 | AD9: N+2 | AE9: N+…
G10: Дата и номер | H10: Размер платы, тарифа, тысяч рублей (без налога на добавленную стоимость) | I10: Номер договора | J10: Дата заключения договора | K10: Данные о заявителе (наименование организации) | R10: N | S10: N + 1 | T10: N + 2
A11: 1 | B11: 2 | C11: 3 | D11: 4 | E11: 5 | F11: 6 | G11: 7 | H11: 8 | I11: 9 | J11: 10 | K11: 11 | L11: 12 | M11: 13 | N11: 14 | O11: 15 | P11: 16 | Q11: 17 | R11: 18 | S11: 19 | T11: 20 | U11: 21 | V11: 22 | W11: 23 | X11: 24 | Y11: 25 | Z11: 26 | AA11: 27 | AB11: 28 | AC11: 29 | AD11: 30 | AE11: 31 | AF11: 32
A12: 1. | B12: Строительство, реконструкция и (или) модернизация объектов в целях подключения потребителей:
A13: 1.1. | B13: Строительство новых сетей водоотведения в целях подключения потребителей
A14: 1.1.1
A15: 1.1.2
A16: 1.2. | B16: Строительство иных объектов централизованной системы водоотведения (за исключением сетей водоотведения) в целях подключения потребителей
A17: 1.2.1
A18: 1.2.2
A19: 1.3. | B19: Увеличение пропускной способности существующих сетей водоотведения в целях подключения потребителей
A20: 1.3.1
A21: 1.3.2
A22: 1.4. | B22: Увеличение мощности и производительности существующих объектов централизованной системы водоотведения (за исключением сетей водоотведения) в целях подключения потребителей
A23: 1.4.1
A24: 1.4.2
A25: Всего
A26: ИТОГО по программе
A28: =IF(Ввод!$B$2="","Должность",Ввод!$B$2)&" ____________________ "&IF(Ввод!$B$3="","И.О. Фамилия",Ввод!$B$3) -> Должность ____________________ И.О. Фамилия
A29: М.П. (при наличии)

Sheet 2.2-ИП ВО
A1: Таблица № 2.2-ИП (ВО) | AU1: ← К оглавлению
A3: ="Мероприятия инвестиционной программы в сфере водоотведения"&IF(Ввод!$B$10="",""," ("&Ввод!$B$10&")")&" на "&IF(Ввод!$B$5="","____",Ввод!$B$5)&"–"&IF(Ввод!$B$6="","____",Ввод!$B$6)&" годы (за исключением мероприятий, выполняемых за счет платы за подключение)" -> Мероприятия инвестиционной программы в сфере водоотведения на ____–____ годы (за исключением мероприятий, выполняемых за счет платы за подключение)
A4: =IF(Ввод!$B$4="","",Ввод!$B$4)
A5: (наименование регулируемой организации)
A7: № | B7: Наименование мероприятий | C7: Обоснование необходимости (цель реализации) | D7: Место расположения объекта | E7: Вид объекта | F7: Основные технические характеристики и физическое состояние | X7: Год начала реализации мероприятия | Y7: Год окончания реализации мероприятия. | Z7: Плановый год ввода в эксплуатацию | AA7: Плановый объем выполнения за счет источников финансирования, тысяч рублей (без налога на добавленную стоимость)
D8: Адрес, место расположения начала и конца объекта | F8: Характеристика объектов на дату утверждения инвестиционной программы | O8: Плановые показатели по итогам реализации мероприятия инвестиционной программы | AA8: Всего, в том числе: | AB8: в том числе по источникам финансирования | AH8: Профинансировано к N | AI8: в том числе по годам | AS8: Остаток финансирования
F9: Сети | J9: Иные объекты | O9: Сети | S9: Иные объекты | AB9: Источник 1 (амортизация) | AC9: в том числе | AF9: источник 2 | AG9: источник n | AI9: N | AJ9: в том числе по источникам финансирования | AP9: N+1 | AQ9: N+2 | AR9: N+…
F10: Диаметр (миллиметры) | G10: Протяженность (километры) | H10: Материал | I10: Пропускная способность (метры кубические в сутки) | J10: Производительность (метры кубические в сутки) | K10: Иные параметры | O10: Диаметр (миллиметры) | P10: Протяженность (километры) | Q10: Материал | R10: Пропускная способность (метры кубические в сутки) | S10: Производительность (метры кубические в сутки) | T10: Иные параметры | AC10: Амортизация основных средств и нематериальных активов сферы водоснабжения, используемая для финансирования мероприятий в сфере водоотведения | AD10: Амортизация основных средств и _ нематериальных активов, перераспределенн ая между видами деятельности в сфере водоотведения | AE10: Амортизация основных средств и нематериальных активов, перераспределенная между несколькими технологически не связанными между собой централизованными системами водоотведения | AJ10: Источник 1 (амортизация) | AK10: в том числе | AN10: источник 2 | AO10: источник n
K11: штуки | L11: метры | M11: квадратные метры | N11: комплексные | T11: штуки | U11: метры | V11: квадратные метры | W11: комплексные | AK11: Амортизация основных средств и нематериальных активов сферы водоснабжения, используемая для финансирования мероприятий в сфере водоотведения | AL11: Амортизация основных средств и нематериальных активов, перераспределенная между видами деятельности в сфере водоотведения | AM11: Амортизация основных средств и нематериальных активов, перераспределенная между несколькими технологически не связанными между собой централизованными системами водоотведения
A12: 1 | B12: 2 | C12: 3 | D12: 4 | E12: 5 | F12: 6 | G12: 7 | H12: 8 | I12: 9 | J12: 10 | K12: 11 | L12: 12 | M12: 13 | N12: 14 | O12: 15 | P12: 16 | Q12: 17 | R12: 18 | S12: 19 | T12: 20 | U12: 21 | V12: 22 | W12: 23 | X12: 24 | Y12: 25 | Z12: 26 | AA12: 27 | AB12: 28 | AC12: 29 | AD12: 30 | AE12: 31 | AF12: 32 | AG12: 33 | AH12: 34 | AI12: 35 | AJ12: 36 | AK12: 37 | AL12: 38 | AM12: 39 | AN12: 40 | AO12: 41 | AP12: 42 | AQ12: 43 | AR12: 44 | AS12: 45
A13: 1. Строительство новых объектов централизованных систем водоотведения, не связанных с подключением новых объектов капитального строительства абонентов, в том числе строительство новых сетей водоотведения
A14: 1.1. | B14: Строительство новых сетей водоотведения
A15: 1.1.1.
A16: 1.1.2.
A17: 1.2. | B17: Строительство иных объектов централизованных систем водоотведения (за исключением сетей водоотведения)
A18: 1.2.1.
A19: 1.2.2.
A20: Всего по разделу 1
A21: 2. Реконструкция, модернизация, техническое перевооружение существующих объектов централизованных систем водоотведения в целях снижения уровня износа существующих объектов
A22: 2.1. Реконструкция, модернизация, техническое перевооружение существующих сетей водоотведения
A23: 2.1.1.
A24: 2.1.2.
A25: 2.2. Реконструкция, модернизация, техническое перевооружение существующих объектов централизованных систем водоотведения, за исключением сетей водоотведения
A26: 2.2.1.
A27: 2.2.2.
A28: Всего по разделу 2
A29: 3. Создание, приобретение основных средств и нематериальных активов, необходимых для
... A77: ИТОГО по программе
A79: =IF(Ввод!$B$2="","Должность",Ввод!$B$2)&" ____________________ "&IF(Ввод!$B$3="","И.О. Фамилия",Ввод!$B$3) -> Должность ____________________ И.О. Фамилия
A80: М.П. (при наличии)

Sheet 3-ИП ВО
A1: Таблица № 3-ИП (ВО) | H1: ← К оглавлению
A2: Показатели надежности, качества и энергетической эффективности централизованных систем водоотведения
A3: =IF(Ввод!$B$4="","",Ввод!$B$4)
A4: (наименование регулируемой организации)
A6: № | B6: Наименование показателя | C6: Показатели качества, надежности и энергетической эффективности централизованных систем водоотведения по годам
C7: Фактическое значение на год утверждения инвестиционной программы | D7: Плановое значение
D8: N | E8: N + 1 | F8: N + 2
A9: 1 | B9: 2 | C9: 3 | D9: 4 | E9: 5 | F9: 6
A10: 1. | B10: Доля сточных вод, не подвергающихся очистке, в общем объеме сточных вод, сбрасываемых в централизованные общесплавные или бытовые системы водоотведения (%)
A11: 2. | B11: Доля поверхностных сточных вод, не подвергающихся очистке, в общем объеме поверхностных сточных вод, принимаемых в централизованную ливневую систему водоотведения (%)
A12: 3. | B12: Доля проб сточных вод, не соответствующих установленным нормативам допустимых сбросов, лимитам на сбросы, рассчитанная для общесплавной (бытовой) централизованной системы водоотведения (%)
A13: 4. | B13: Доля проб сточных вод, не соответствующих установленным нормативам допустимых сбросов, лимитам на сбросы, рассчитанная для централизованной ливневой системы водоотведения (%)
A14: 5. | B14: Удельное количество аварий и засоров в расчете на протяженность канализационной сети в год (единица, км)
A15: 6. | B15: Удельный расход электрической энергии, потребляемой в технологическом процессе очистки сточных вод, на единицу объема очищаемых сточных вод (кВт · ч, м³)
A16: 7. | B16: Удельный расход электрической энергии, потребляемой в технологическом процессе транспортировки сточных вод, на единицу объема транспортируемых сточных вод (кВт · ч, м³)
A18: =IF(Ввод!$B$2="","Должность",Ввод!$B$2)&" ____________________ "&IF(Ввод!$B$3="","И.О. Фамилия",Ввод!$B$3) -> Должность ____________________ И.О. Фамилия
A19: М.П. (при наличии)

Sheet 4.1-ИП(п) ВО
A1: Таблица № 4.1-ИП(п) (ВО) | AO1: ← К оглавлению
A3: ="Отчет о ходе реализации инвестиционной программы (подключения) в сфере водоотведения"&IF(Ввод!$B$10="",""," ("&Ввод!$B$10&")")&" за под (за счет платы за подключение)" -> Отчет о ходе реализации инвестиционной программы (подключения) в сфере водоотведения за под (за счет платы за подключение)
A4: =IF(Ввод!$B$4="","",Ввод!$B$4)
A5: (наименование регулируемой организации)
A7: № | B7: Наименование мероприятий | C7: Место расположения объекта | D7: Вид объекта | E7: Тип тарифа (платы) | F7: Нормативный акт органа регулирования об установлении размера платы, тарифа за, на подключение (технологическое присоединение) к централизованной системе водоотведения | H7: Договор на подключение (технологическое присоединение) | K7: Точка подключения | L7: Срок подключения | M7: Основные технические характеристики и физическое состояние | W7: Год начала реализации мероприятия | X7: Год окончания реализации мероприятия | Y7: Год ввода в эксплуатацию | Z7: Плановый объем выполнения за счет платы за подключение, тысяч рублей (без налога на добавленную стоимость) | AG7: Объем фактического выполнения за счет платы за подключение, тысяч рублей (без налога на добавленную стоимость)
C8: Адрес, место расположения начала и конца объекта | M8: Диаметр (миллиметры) | N8: Материал | O8: Объем подключенной нагрузки (метры кубические в сутки) | P8: Ввод мощностей (километры) | U8: Количество новых подключенных (технологически присоединенных) объектов капитального строительства абонентов (штуки) | V8: Создание условий для подключения (технологического присоединения) новых объектов капитального строительства абонентов (метры кубические в сутки)
P9: Всего | Q9: в том числе по годам | Z9: Всего, В ТОМ числе: | AA9: Профинансировано к N | AB9: в том числе по годам | AF9: Остаток финансирования | AG9: Всего, в том числе: | AH9: Профинансировано к N | AI9: в том числе по годам | AM9: Остаток финансирования
F10: Дата и номер омер | G10: Размер платы, тарифа, тысяч рублей (без налога на добавленную стоимость) | H10: Номер договора | I10: Дата заключения договора | J10: Данные о заявителе (наименование организации) | Q10: N | R10: N + 1 | S10: N + 2 | T10: N +… | AB10: N | AC10: N+1 | AD10: N+2 | AE10: N+… | AI10: N | AJ10: N+1 | AK10: N+2 | AL10: N+…
A11: 1 | B11: 2 | C11: 3 | D11: 4 | E11: 5 | F11: 6 | G11: 7 | H11: 8 | I11: 9 | J11: 10 | K11: 11 | L11: 12 | M11: 13 | N11: 14 | O11: 15 | P11: 16 | Q11: 17 | R11: 18 | S11: 19 | T11: 20 | U11: 21 | V11: 22 | W11: 23 | X11: 24 | Y11: 25 | Z11: 26 | AA11: 27 | AB11: 28 | AC11: 29 | AD11: 30 | AE11: 31 | AF11: 32 | AG11: 33 | AH11: 34 | AI11: 35 | AJ11: 36 | AK11: 37 | AL11: 38 | AM11: 39
A12: 1. | B12: Строительство, реконструкция и (или) модернизация объектов в целях подключения потребителей
A13: 1.1. | B13: Строительство новых сетей водоотведения в целях подключения потребителей
A14: 1.1.1
A15: 1.1.2
A16: 1.2. | B16: Строительство иных объектов централизованных систем водоотведения (за исключением сетей водоотведения) в целях подключения потребителей
A17: 1.2.1
A18: 1.2.2
A19: 1.3. | B19: Увеличение пропускной способности существующих сетей водоотведения в целях подключения потребителей
A20: 1.3.1
A21: 1.3.2
A22: 1.4. | B22: Увеличение мощности и производительности существующих объектов централизованной системы водоотведения (за исключением сетей водоотведения) в целях подключения потребителей
A23: 1.4.1
A24: 1.4.2
A25: Всего
A26: ИТОГО по программе
A28: =IF(Ввод!$B$2="","Должность",Ввод!$B$2)&" ____________________ "&IF(Ввод!$B$3="","И.О. Фамилия",Ввод!$B$3) -> Должность ____________________ И.О. Фамилия
A29: М.П. (при наличии)

Sheet 4.2-ИП ВО
A1: Таблица № 4.2-ИП (ВО) | BH1: ← К оглавлению
A3: ="Отчет о ходе реализации мероприятий инвестиционной программы в сфере водоотведения"&IF(Ввод!$B$10="",""," ("&Ввод!$B$10&")")&" на "&IF(Ввод!$B$5="","____",Ввод!$B$5)&"–"&IF(Ввод!$B$6="","____",Ввод!$B$6)&" годы (за исключением мероприятий, выполняемых за счет платы за подключение)" -> Отчет о ходе реализации мероприятий инвестиционной программы в сфере водоотведения на ____–____ годы (за исключением мероприятий, выполняемых за счет платы за подключение)
A4: =IF(Ввод!$B$4="","",Ввод!$B$4)
A5: (наименование регулируемой организации)
A7: № | B7: Наименование мероприятий | C7: Обоснование необходимости (цель реализации) | D7: Место расположения объекта | E7: Вид объекта | F7: Основные технические характеристики и физическое состояние по итогам реализации мероприятия инвестиционной программы | O7: Год начала реализации мероприятия | P7: Год окончания реализации мероприятия | Q7: Год ввода в эксплуатацию | R7: Плановый объем выполнения за счет источников финансирования, тысяч рублей (без налога на добавленную стоимость) | AK7: Объем фактического выполнения за счет источников финансирования, тысяч рублей (без налога на добавленную стоимость) | BD7: Экономия инвестиционных расходов, тысяч рублей (без налога на добавленную стоимость)
D8: Адрес, место расположения начала и конца объекта | F8: Сети | J8: Иные объекты | R8: Всего, в том числе: | S8: в том числе по источникам финансирования | Y8: Профинансировано к N | Z8: в том числе по годам | AJ8: Остаток финансирования | AK8: Всего, в том числе: | AL8: в том числе по источникам финансирования | AR8: Профинансировано к N | AS8: в том числе по годам | BC8: Остаток финансирования | BD8: за счет амортизационных отчислений | BE8: за счет капитальных вложений в составе нормативной прибыли | BF8: за счет прочих собственных средств
S9: Источник 1 (амортизация) | T9: в том числе | W9: источник 2 | X9: источник n | Z9: N | AA9: в том числе по источникам финансирования | AG9: N+1 | AH9: N+2 | AI9: N+… | AL9: Источник 1 (амортизация) | AM9: в том числе | AP9: источник 2 | AQ9: источник n | AS9: N | AT9: в том числе по источникам финансирования | AZ9: N+1 | BA9: N+2 | BB9: N+…
F10: Диаметр (миллиметры) | G10: Протяженность (километры) | H10: Материал | I10: Пропускная способность (метры кубические в сутки) | J10: Производительность (метры кубические в сутки) | K10: Иные параметры | T10: Амортизация основных средств х и нематериальных активов сферы водоснабжения, используемая для финансирования мероприятий в сфере водоотведения | U10: Амортизация основных средств и нематериальных активов, пераспределенная между видами деятельности в сфере водоотведения | V10: Амортизация основных средств и нематериальных активов, пераспределенная между несколькими технологически не связанными между собой централизованными системами водоотведения | AA10: Источник 1 (амортизация) | AB10: в том числе | AE10: источник 2 | AF10: источник n | AM10: Амортизация основных средств и нематериальных активов сферы водоснабжения, используемая для финансирования мероприятий в сфере водоотведения | AN10: Амортизация основных средств и нематериальных активов, пераспределенная между видами деятельности в сфере водоотведения | AO10: Амортизация основных средств и нематериальных активов, пераспределенная между несколькими технологически не связанными между собой централизованными системами водоотведения | AT10: Источник 1 (амортизация) | AU10: в том числе | AX10: источник 2 | AY10: источник n
K11: штуки | L11: метры | M11: квадратные метры | N11: комплексные | AB11: Амортизация основных средств и нематериальных активов сферы водоснабжения, используемая для финансирования мероприятий в сфере водоотведения | AC11: Амортизация основных средств и нематериальных активов, пераспределенная между видами деятельности в сфере водоотведения | AD11: Амортизация основных средств и нематериальных активов, пераспределенная между несколькими технологически не связанными между собой централизованными системами водоотведения | AU11: Амортизация основных средств и нематериальных активов сферы водоснабжения, используемая для финансирования мероприятий в сфере водоотведения | AV11: Амортизация основных средств и нематериальных активов, пераспределенная между видами деятельности в сфере водоотведения | AW11: Амортизация основных средств и нематериальных активов, пераспределенная между несколькими технологически не связанными между собой централизованными системами водоотведения
A12: 1 | B12: 2 | C12: 3 | D12: 4 | E12: 5 | F12: 6 | G12: 7 | H12: 8 | I12: 9 | J12: 10 | K12: 11 | L12: 12 | M12: 13 | N12: 14 | O12: 15 | P12: 16 | Q12: 17 | R12: 18 | S12: 19 | T12: 20 | U12: 21 | V12: 22 | W12: 23 | X12: 24 | Y12: 25 | Z12: 26 | AA12: 27 | AB12: 28 | AC12: 29 | AD12: 30 | AE12: 31 | AF12: 32 | AG12: 33 | AH12: 34 | AI12: 35 | AJ12: 36 | AK12: 37 | AL12: 38 | AM12: 39 | AN12: 40 | AO12: 41 | AP12: 42 | AQ12: 43 | AR12: 44 | AS12: 45 | AT12: 46 | AU12: 47 | AV12: 48 | AW12: 49 | AX12: 50 | AY12: 51 | AZ12: 52 | BA12: 53 | BB12: 54 | BC12: 55 | BD12: 56 | BE12: 57 | BF12: 58
A13: 1. Строительство новых объектов централизованных систем водоотведения, не связанных с подключением новых объектов капитального строительства абонентов, в том числе строительство новых сетей водоотведения
A14: 1.1. | B14: Строительство новых сетей водоотведения
A15: 1.1.1.
A16: 1.1.2.
A17: 1.2. | B17: Строительство иных объектов централизованных систем водоотведения (за исключением сетей водоотведения)
A18: 1.2.1.
A19: 1.2.2.
A20: Всего по разделу 1
A21: 2. Реконструкция, модернизация, техническое перевооружение существующих объектов централизованных систем водоотведения в целях снижения уровня износа существующих объектов
A22: 2.1. Реконструкция, модернизация, техническое перевооружение существующих сетей водоотведения
A23: 2.1.1.
A24: 2.1.2.
A25: 2.2. Реконструкция, модернизация, техническое перевооружение существующих объектов централизованных систем водоотведения, за исключением сетей водоотведения
A26: 2.2.1.
A27: 2.2.2.
A28: Всего по разделу 2
A29: 3. Создание, приобретение основных средств и нематериальных активов, необходимых для
... A77: ИТОГО по программе
A79: =IF(Ввод!$B$2="","Должность",Ввод!$B$2)&" ____________________ "&IF(Ввод!$B$3="","И.О. Фамилия",Ввод!$B$3) -> Должность ____________________ И.О. Фамилия
A80: М.П. (при наличии)

Sheet 5-ИП ВО
A1: Таблица № 5-ИП (ВО) | F1: ← К оглавлению
A3: ="Отчет о достижении плановых показателей надежности, качества и энергетической эффективности объектов централизованных систем водоотведения"&IF(Ввод!$B$10="",""," ("&Ввод!$B$10&")")&" за ______ год" -> Отчет о достижении плановых показателей надежности, качества и энергетической эффективности объектов централизованных систем водоотведения за ______ год
A4: =IF(Ввод!$B$4="","",Ввод!$B$4)
A5: (наименование регулируемой организации)
A7: № | B7: Наименование показателя | C7: План | D7: Факт
A8: 1 | B8: 2 | C8: 3 | D8: 4
A9: 1. | B9: Доля сточных вод, не подвергающихся очистке, в общем объеме сточных вод, сбрасываемых в централизованные общесплавные или бытовые системы водоотведения (%)
A10: 2. | B10: Доля поверхностных сточных вод, не подвергающихся очистке, в общем объеме поверхностных сточных вод, принимаемых в централизованную ливневую систему водоотведения (%)
A11: 3. | B11: Доля проб сточных вод, не соответствующих установленным нормативам допустимых сбросов, лимитам на сбросы, рассчитанная для общесплавной (бытовой) централизованной системы водоотведения (%)
A12: 4. | B12: Доля проб сточных вод, не соответствующих установленным нормативам допустимых сбросов, лимитам на сбросы, рассчитанная для централизованной ливневой системы водоотведения (%)
A13: 5. | B13: Удельное количество аварий и засоров в расчете на протяженность канализационной сети в год (единица, км)
A14: 6. | B14: Удельный расход электрической энергии, потребляемой в технологическом процессе очистки сточных вод, на единицу объема очищаемых сточных вод (кВт · ч, м³)
A15: 7. | B15: Удельный расход электрической энергии, потребляемой в технологическом процессе транспортировки сточных вод, на единицу объема транспортируемых сточных вод (кВт · ч, м³)
A17: =IF(Ввод!$B$2="","Должность",Ввод!$B$2)&" ____________________ "&IF(Ввод!$B$3="","И.О. Фамилия",Ввод!$B$3) -> Должность ____________________ И.О. Фамилия
A18: М.П. (при наличии)

Sheet 2.1-ИП(п) ГВС
A1: Таблица № 2.1-ИП(п) (ГВС) | AH1: ← К оглавлению
A3: ="Мероприятия инвестиционной программы (подключения) в сфере горячего водоснабжения"&IF(Ввод!$B$10="",""," ("&Ввод!$B$10&")")&" на "&IF(Ввод!$B$5="","____",Ввод!$B$5)&"–"&IF(Ввод!$B$6="","____",Ввод!$B$6)&" годы (за счет платы за подключение)" -> Мероприятия инвестиционной программы (подключения) в сфере горячего водоснабжения на ____–____ годы (за счет платы за подключение)
A4: =IF(Ввод!$B$4="","",Ввод!$B$4)
A5: (наименование регулируемой организации)
A7: № | B7: Наименование мероприятий | C7: Обоснование необходимости (цель реализации) | D7: Место расположения объекта | E7: Вид объекта | F7: Тип тарифа (платы) | G7: Нормативный акт органа регулирования об установлении размера платы, тарифа за, на подключение (технологическое присоединение) к централизованной системе водоотведения | I7: Договор на подключение (технологическое присоединение) | L7: Точка подключения | M7: Срок подключения | N7: Плановые показатели по итогам реализации мероприятия инвестиционной программы | W7: Год начала реализации мероприятия | X7: Год окончания реализации мероприятия | Y7: Плановый год ввода в эксплуатацию | Z7: Плановый объем выполнения за счет платы за подключение, тысяч рублей (без налога на добавленную стоимость)
D8: Адрес, место расположения начала и конца объекта | N8: Диаметр (миллиметры) | O8: Материал | P8: Объем подключаемой нагрузки (метры кубические в сутки) | Q8: Ввод мощностей (километры) | U8: Количество новых подключаемых (технологически присоединенных) объектов капитального строительства абонентов (штуки) | V8: Создание условий для подключения (технологического присоединения) новых объектов капитального строительства абонентов (метры кубические в сутки) | Z8: Всего, в том числе: | AA8: Профинансировано к N | AB8: в том числе по годам | AF8: Остаток финансирования
Q9: Всего | R9: в том числе по годам | AB9: N | AC9: N+1 | AD9: N+2 | AE9: N+…
G10: Дата и номер | H10: Размер платы, тарифа, тысяч рублей (без налога на добавленную стоимость) | I10: Номер договора | J10: Дата заключения договора | K10: Данные о заявителе (наименование организации) | R10: N | S10: N + 1 | T10: N + 2
A11: 1 | B11: 2 | C11: 3 | D11: 4 | E11: 5 | F11: 6 | G11: 7 | H11: 8 | I11: 9 | J11: 10 | K11: 11 | L11: 12 | M11: 13 | N11: 14 | O11: 15 | P11: 16 | Q11: 17 | R11: 18 | S11: 19 | T11: 20 | U11: 21 | V11: 22 | W11: 23 | X11: 24 | Y11: 25 | Z11: 26 | AA11: 27 | AB11: 28 | AC11: 29 | AD11: 30 | AE11: 31 | AF11: 32
A12: 1. | B12: Строительство, реконструкция и (или) модернизация объектов в целях подключения потребителей:
A13: 1.1. | B13: Строительство новых сетей горячего водоснабжения в целях подключения потребителей
A14: 1.1.1
A15: 1.1.2
A16: 1.2. | B16: Строительство иных объектов централизованных систем горячего водоснабжения (за исключением сетей водоснабжения) в целях подключения потребителей
A17: 1.2.1
A18: 1.2.2
A19: 1.3. | B19: Увеличение пропускной способности существующих сетей горячего водоснабжения в целях подключения потребителей
A20: 1.3.1
A21: 1.3.2
A22: 1.4. | B22: Увеличение мощности и производительности существующих объектов централизованных систем горячего водоснабжения (за исключением сетей водоснабжения) в целях подключения потребителей
A23: 1.4.1
A24: 1.4.2
A25: Всего
A26: ИТОГО по программе
A28: =IF(Ввод!$B$2="","Должность",Ввод!$B$2)&" ____________________ "&IF(Ввод!$B$3="","И.О. Фамилия",Ввод!$B$3) -> Должность ____________________ И.О. Фамилия
A29: М.П. (при наличии)

Sheet 2.2-ИП ГВС
A1: Таблица № 2.2-ИП (ГВС) | AU1: ← К оглавлению
A3: ="Мероприятия инвестиционной программы в сфере горячего водоснабжения"&IF(Ввод!$B$10="",""," ("&Ввод!$B$10&")")&" на "&IF(Ввод!$B$5="","____",Ввод!$B$5)&"–"&IF(Ввод!$B$6="","____",Ввод!$B$6)&" годы (за исключением мероприятий, выполняемых за счет платы за подключение)" -> Мероприятия инвестиционной программы в сфере горячего водоснабжения на ____–____ годы (за исключением мероприятий, выполняемых за счет платы за подключение)
A4: =IF(Ввод!$B$4="","",Ввод!$B$4)
A5: (наименование регулируемой организации)
A7: № | B7: Наименование мероприятий | C7: Обоснование необходимости (цель реализации) | D7: Место расположения объекта | E7: Вид объекта | F7: Основные технические характеристики и физическое состояние | X7: Год начала реализации мероприятия | Y7: Год окончания реализации мероприятия | Z7: Плановый год ввода в эксплуатацию | AA7: Плановый объем выполнения за счет источников финансирования, тысяч рублей (без налога на добавленную стоимость)
D8: Адрес, место расположения начала и конца объекта | F8: Характеристика объектов на дату утверждения инвестиционной программы | O8: Плановые показатели по итогам реализации мероприятия инвестиционной программы | AA8: Всего, в том числе: | AB8: Источник 1 (амортизация) | AC8: в том числе | AF8: источник 2 | AG8: источник n | AH8: Профинансировано к N N | AI8: в том числе по годам | AS8: Остаток финансирования
F9: Сети | J9: Иные объекты | O9: Сети | S9: Иные объекты | AC9: Амортизация основных средств и нематериальных активов сферы водоотведения, используемая для финансирования мероприятий в сфере водоснабжения | AD9: Амортизация основных средств и нематериальных активов, перераспределенная между видами деятельности в сфере водоснабжения | AE9: Амортизация основных средств и нематериальных активов, перераспределенная между несколькими технологически не связанными между собой централизованными системами водоснабжения | AJ9: в том числе по источникам финансирования | AP9: N+1 | AQ9: N+2 | AR9: N+…
F10: Диаметр (миллиметры) | G10: Протяженность (километры) | H10: Материал | I10: Пропускная способность (метры кубические в сутки) | J10: Производительность (метры кубические в сутки) | K10: Иные параметры | O10: Диаметр (миллиметры) | P10: Протяженность (километры) | Q10: Материал | R10: Пропускная способность (метры кубические в сутки) | S10: Производительность (метры кубические в сутки) | T10: Иные параметры | AJ10: Источник 1 (амортизация) | AK10: в том числе | AN10: источник 2 | AO10: источник n
K11: штуки | L11: метры | M11: квадратные метры | N11: комплексные | T11: штуки | U11: метры | V11: квадратные метры | W11: комплексные | AK11: Амортизация основных средств и нематериальных активов сферы водоотведения, используемая для финансирования мероприятий в сфере водоснабжения | AL11: Амортизация основных средств и нематериальных активов, перераспределенная между видами деятельности в сфере водоснабжения | AM11: Амортизация основных средств и нематериальных активов, перераспределенная между несколькими технологически не связанными между собой централизованными системами водоснабжения
A12: 1 | B12: 2 | C12: 3 | D12: 4 | E12: 5 | F12: 6 | G12: 7 | H12: 8 | I12: 9 | J12: 10 | K12: 11 | L12: 12 | M12: 13 | N12: 14 | O12: 15 | P12: 16 | Q12: 17 | R12: 18 | S12: 19 | T12: 20 | U12: 21 | V12: 22 | W12: 23 | X12: 24 | Y12: 25 | Z12: 26 | AA12: 27 | AB12: 28 | AC12: 29 | AD12: 30 | AE12: 31 | AF12: 32 | AG12: 33 | AH12: 34 | AI12: 35 | AJ12: 36 | AK12: 37 | AL12: 38 | AM12: 39 | AN12: 40 | AO12: 41 | AP12: 42 | AQ12: 43 | AR12: 44 | AS12: 45
A13: 1. Строительство новых объектов централизованных систем водоснабжения, не связанных с подключением новых объектов капитального строительства абонентов, в том числе строительство новых сетей водоснабжения
A14: 1.1. | B14: Строительство новых сетей водоснабжения
A15: 1.1.1.
A16: 1.1.2.
A17: 1.2. | B17: Строительство иных объектов централизованных систем водоснабжения (за исключением сетей водоснабжения)
A18: 1.2.1.
A19: 1.2.2.
A20: Всего по разделу 1
A21: 2. Реконструкция, модернизация, техническое перевооружение существующих объектов централизованных систем водоснабжения в целях снижения уровня износа существующих объектов
A22: 2.1. Реконструкция, модернизация, техническое перевооружение существующих сетей водоснабжения
A23: 2.1.1.
A24: 2.1.2.
A25: 2.2. Реконструкция, модернизация, техническое перевооружение существующих объектов централизованных систем водоотведения, за исключением сетей водоснабжения
A26: 2.2.1.
A27: 2.2.2.
A28: Всего по разделу 2
A29: 3. Создание, приобретение основных средств и нематериальных активов, необходимых для
... A77: ИТОГО по программе
A79: =IF(Ввод!$B$2="","Должность",Ввод!$B$2)&" ____________________ "&IF(Ввод!$B$3="","И.О. Фамилия",Ввод!$B$3) -> Должность ____________________ И.О. Фамилия
A80: М.П. (при наличии)

Sheet 3-ИП ГВС
A1: Таблица № 3-ИП (ГВС) | H1: ← К оглавлению
A2: Показатели надежности, качества и энергетической эффективности централизованных систем горячего водоснабжения
A3: =IF(Ввод!$B$4="","",Ввод!$B$4)
A4: (наименование регулируемой организации)
A6: № | B6: Наименование показателя | C6: Показатели качества, надежности и энергетической эффективности централизованных систем горячего водоснабжения по годам
C7: Фактическое значение на год утверждения инвестиционной программы | D7: Плановое значение
D8: N | E8: N + 1 | F8: N + 2
A9: 1 | B9: 2 | C9: 3 | D9: 4 | E9: 5 | F9: 6
A10: 1. | B10: Доля проб горячей воды в тепловой сети или в сети горячего водоснабжения, не соответствующих установленным требованиям по температуре, в общем объеме проб, отобранных по результатам производственного контроля качества горячей воды (%)
A11: 2. | B11: Доля проб горячей воды в тепловой сети или в сети горячего водоснабжения, не соответствующих установленным требованиям (за исключением температуры), в общем объеме проб, отобранных по результатам производственного контроля качества горячей воды (%)
A12: 3. | B12: Количество прекращений подачи горячей воды в результате технологических нарушений на водопроводных сетях на 1 км сетей (единица, 1 км)
